BEGIN:VCALENDAR
VERSION:2.0
PRODID:-//ChamberMaster//Event Calendar 2.0//EN
METHOD:PUBLISH
X-PUBLISHED-TTL:P3D
REFRESH-INTERVAL:P3D
CALSCALE:GREGORIAN
BEGIN:VEVENT
DTSTART:20181023T160000Z
DTEND:20181023T190000Z
X-MICROSOFT-CDO-ALLDAYEVENT:FALSE
SUMMARY:SBDC @ Chamber Office
DESCRIPTION:San Diego SBDC will be in the Chamber office on the 4th Tuesday of every month.
X-ALT-DESC;FMTTYPE=text/html:San Diego SBDC will be in the Chamber office on the 4th Tuesday of every month.
LOCATION:9924 Vine Street Lakeside CA 92040
UID:e.3146.708
SEQUENCE:3
DTSTAMP:20260421T030633Z
URL:http://lakesidecali.chambermaster.com/events/details/sbdc-chamber-office-708
END:VEVENT

END:VCALENDAR
